BEGIN:VCALENDAR
VERSION:2.0
PRODID:-//ChamberMaster//Event Calendar 2.0//EN
METHOD:PUBLISH
X-PUBLISHED-TTL:P3D
REFRESH-INTERVAL:P3D
CALSCALE:GREGORIAN
BEGIN:VEVENT
DTSTART:20260421T000000Z
DTEND:20260421T000000Z
X-MICROSOFT-CDO-ALLDAYEVENT:FALSE
SUMMARY:A Visit From Will Dilg
DESCRIPTION:A Visit From Will Dilg created & performed by Steven Marking\n\nHear from the father of our upper midwest river national wildlife & fish refuge
X-ALT-DESC;FMTTYPE=text/html:A Visit From Will Dilg created &amp\; performed by Steven Marking<br />\nHear from the father of our upper midwest river national wildlife &amp\; fish refuge
LOCATION:Walker-Hackensack-Akeley High School Aduitorium 301 4th Street Walker\, MN 56484
UID:e.2604.22278
SEQUENCE:3
DTSTAMP:20260421T081632Z
URL:https://www.hackensackchamber.com/events/details/a-visit-from-will-dilg-22278
END:VEVENT

END:VCALENDAR
